BEGIN:VCALENDAR
VERSION:2.0
PRODID:-//CERN//INDICO//EN
BEGIN:VEVENT
SUMMARY:Mathematical Aspects of Quantum Mechanics - Winter school
DTSTART:20240115T090000Z
DTEND:20240119T113000Z
DTSTAMP:20260423T182000Z
UID:indico-event-9899@indico.math.cnrs.fr
CONTACT:tristan.benoist@math.univ-toulouse.fr\;jean-marc.bouclet@math.univ
 -toulouse.fr
DESCRIPTION:Speakers: Jean-Marc Bouclet (Institut de Mathématiques de Tou
 louse)\n\n This winter school is the launch event of the thematic semeste
 r Mathematical Aspects of Quantum Mechanics. It will comprise three course
 sQuasiprobabilities at the service of the quantum (Stephan De Bièvre - Un
 iversité de Lille 1)Ruminations on information theory and statistical mec
 hanics (Vojkan Jaksic - McGill University)Introduction to spectral theory 
 (Stéphane Nonnenmacher - Université Paris Saclay )The course is aimed pr
 imarily at M2 and PhD students\, but may also be of interest to post-docs 
 and researchers wishing to train or add to their knowledge of mathematical
  physics. One of the aims is to introduce the fundamental notions needed t
 o follow the other events of the semester.For students who may need it\, p
 artial financial support is possible. Submit an application.This event is 
 a CNRS Thematic school.Sponsors:\n\nhttps://indico.math.cnrs.fr/event/9899
 /
LOCATION:Amphithéâtre Schwartz (Institut de Mathématiques de Toulouse)
URL:https://indico.math.cnrs.fr/event/9899/
END:VEVENT
END:VCALENDAR
