BEGIN:VCALENDAR
VERSION:2.0
PRODID:-//CERN//INDICO//EN
BEGIN:VEVENT
SUMMARY:Spectral Gap for Long-Range Interactions in Harmonic Chain of Osci
 llators
DTSTART:20230310T140000Z
DTEND:20230310T150000Z
DTSTAMP:20260423T083000Z
UID:indico-event-9527@indico.math.cnrs.fr
CONTACT:cecile@ihes.fr
DESCRIPTION:Speakers: Angeliki Menegaki (IHES)\n\nProbability and analysis
  informal seminarWe consider one-dimensional chains and multi-dimensional 
 networks of harmonic oscillators coupled to two Langevin heat reservoirs a
 t different temperatures. Each particle interacts with its nearest neighbo
 urs by harmonic potentials and all individual particles are confined by ha
 rmonic potentials\, too. In previous works we investigated the sharp N-par
 ticle dependence of the spectral gap of the associated generator in differ
 ent physical scenarios and for different spatial dimensions. In this talk 
 I will present new results on the behaviour of the spectral gap when consi
 dering longer-range interactions in the same model. In particular\, depend
 ing on the strength of the longer-range interaction\, there are different 
 regimes appearing where the gap drastically changes behaviour but even the
  hypoellipticity of the operator breaks down. This is a joint work with Si
 mon Becker (ETH).  ========Pour être informé des prochains séminaires
  vous pouvez vous abonner à la liste de diffusion en écrivant un mail à
  sympa@listes.math.cnrs.fr avec comme sujet: "subscribe seminaire_mathemat
 ique PRENOM NOM"(indiquez vos propres prénom et nom) et laissez le corps 
 du message vide.\n\nhttps://indico.math.cnrs.fr/event/9527/
LOCATION:Amphithéâtre Léon Motchane (IHES)
URL:https://indico.math.cnrs.fr/event/9527/
END:VEVENT
END:VCALENDAR
