BEGIN:VCALENDAR
VERSION:2.0
PRODID:-//CERN//INDICO//EN
BEGIN:VEVENT
SUMMARY:TBA
DTSTART:20230630T120000Z
DTEND:20230630T133000Z
DTSTAMP:20260423T064500Z
UID:indico-event-9012@indico.math.cnrs.fr
DESCRIPTION:Speakers: Maria Jivulescu\n\nhttps://indico.math.cnrs.fr/event
 /9012/
LOCATION:IHP
URL:https://indico.math.cnrs.fr/event/9012/
END:VEVENT
END:VCALENDAR
