BEGIN:VCALENDAR
VERSION:2.0
PRODID:-//CERN//INDICO//EN
BEGIN:VEVENT
SUMMARY:Mini cours:
DTSTART:20230512T083000Z
DTEND:20230512T103000Z
DTSTAMP:20260424T110300Z
UID:indico-event-9005@indico.math.cnrs.fr
DESCRIPTION:Speakers: David Dereudre\n\nhttps://indico.math.cnrs.fr/event/
 9005/
LOCATION:314 (IHP)
URL:https://indico.math.cnrs.fr/event/9005/
END:VEVENT
END:VCALENDAR
