BEGIN:VCALENDAR
VERSION:2.0
PRODID:-//CERN//INDICO//EN
BEGIN:VEVENT
SUMMARY:Corps pseudo-finis\, intégration motivique et lemme fondamental
DTSTART:20230511T120000Z
DTEND:20230511T130000Z
DTSTAMP:20260423T145300Z
UID:indico-event-8956@indico.math.cnrs.fr
DESCRIPTION:Speakers: François Loeser\n\nM. Groechenig\, D. Wyss et P. Zi
 egler ont récemment donné une nouvelle preuve\, basée sur l'intégratio
 n p-adique\, du théorème de stabilisation géométrique de Ngô et par c
 onséquent également du lemme fondamental. Dans mon exposé je présenter
 ai un travail avec Arthur Forey et Dimitri Wyss dans lequel nous démontro
 ns des versions motiviques de la stabilisation géométrique et du lemme f
 ondamental. Nous utilisons pour cela une version de la théorie des foncti
 ons constructibles motiviques adaptée au cas des corps résiduels pseudo-
 finis (les corps pseudo-finis sont les modèles infinis de la théorie du 
 premier ordre des corps finis). \n\nhttps://indico.math.cnrs.fr/event/895
 6/
URL:https://indico.math.cnrs.fr/event/8956/
END:VEVENT
END:VCALENDAR
