BEGIN:VCALENDAR
VERSION:2.0
PRODID:-//CERN//INDICO//EN
BEGIN:VEVENT
SUMMARY:Journée François Ducrot
DTSTART:20220615T073000Z
DTEND:20220615T150000Z
DTSTAMP:20260425T155100Z
UID:indico-event-7986@indico.math.cnrs.fr
DESCRIPTION:Nous nous étions promis d’organiser en son honneur une jour
 née pour évoquer sa mémoire en\nrappelant tous les moments que nous avo
 ns partagés avec lui. Pour beaucoup d’entre nous\,\nl’absence de Fran
 çois se fait sentir tous les jours\, mais cette journée devrait être un
  moment\npour le retrouver.\n\nLa journée se déroulera le 15 juin dans l
 'amphi L 002 de la faculté des sciences.\n\n\n\nAdresse :\n\n2 boulevard 
 Lavoisier\n\n49045 Angers CEDEX 01\n\n \n\nPour des raisons d'organisatio
 n du buffet\, nous souhaiterions une inscription sur le menu de gauche.\n\
 n \n\n\n\nProgramme\n\n\n	9h30 - 9h50 : Accueil des participants\n	9h55 -
  10h25 : Intervention de personnalités\n	\n		Christian Roblédo : présid
 ent de l'université d'Angers\n		Stéphane Piednoir : sénateur et ancien 
 étudiant\n		Philippe Leriche : directeur de la faculté des sciences\n	\n
 	\n	10h25 - 11h10 : François au département de mathématiques\n	\n		Hél
 ène Maynadier-Gervais\, directrice du département : François un prédé
 cesseur durant 10 ans\n		Michel Granger : la recherche mathématique de Fr
 ançois\n		Jean-Jacques Loeb : dialogue mathématique avec François\n		Ja
 cquelin Charbonnel : 16 ans de co-équipage informatique\n	\n	\n	11h10 - 1
 1h30 : pause\n	11h30 - 12h : François et l'enseignement :\n	\n		implicati
 on dans MATh.en.JEANS : David Gréau (Maths.en.Jeans) et Youssef Barkatou 
 (IREM Poitiers)\n		collaboration avec l'économie :Gildas Appéré (profes
 seur en DEG) et Christophe Daniel (doyen de la Faculté de Droit-Economie-
 Gestion)\n	\n	\n	12h15 - 13h : Expression libre : la famille avec Paul-Hen
 ri Ducrot\, frère de François\, les amis\, le personnel de Sciences\, to
 us ceux qui ont envie de parler de François\n	13h : Buffet\n	14h - 15h : 
 Exposé de vulgarisation de Luck Darnière (LAREMA) Vérité et croyance e
 n mathématiques\n	15h - 15h30 : Expression libre suite du matin\n	15h30 -
  17h : Jeux et pratiques mathématiques\n	17h : Clôture de la journée \n
 \n\nhttps://indico.math.cnrs.fr/event/7986/
IMAGE;VALUE=URI:https://indico.math.cnrs.fr/event/7986/logo-3705446436.png
LOCATION:Amphi L002 (Faculté des Sciences - Université d'Angers)
URL:https://indico.math.cnrs.fr/event/7986/
END:VEVENT
END:VCALENDAR
