BEGIN:VCALENDAR
VERSION:2.0
PRODID:-//CERN//INDICO//EN
BEGIN:VEVENT
SUMMARY:Doctorantes en probabilités
DTSTART:20190314T130000Z
DTEND:20190315T160000Z
DTSTAMP:20260426T040700Z
UID:indico-event-4213@indico.math.cnrs.fr
DESCRIPTION:A l’occasion du mois des femmes et de la semaine des math
 s  à l’université de Montpellier\, nous organisons pour les 14-15 m
 ars 2019\, un séminaire « Doctorantes en Probabilités ».\n\nNotre ob
 jectif est de permettre à des doctorantes de bénéficier d’une certain
 e visibilité\, dans une discipline où elles sont sous-représentées\, e
 t en particulier en probabilités qui est notre domaine de recherche. Pour
  ce faire\, nous proposons plusieurs sessions d’exposés mathématiques\
 , mais également une conférence débat ouverte à tou-te-s  autour du s
 exisme à l’université\, ainsi qu’une rencontre destinée à des étu
 diantes appartenant à des filières scientifiques où les femmes sont sou
 s représentées (typiquement les mathématiques ou l’informatique par e
 xemple). \n\nLes inscriptions (gratuites mais obligatoires) sont possible
 s jusqu'au 22 février 2019.\n\n\n\nhttps://indico.math.cnrs.fr/event/4213
 /
IMAGE;VALUE=URI:https://indico.math.cnrs.fr/event/4213/logo-2507364858.png
LOCATION:Bat. 9 - salle 109 (Institut Montpelliérain Alexender Grothendie
 ck )
URL:https://indico.math.cnrs.fr/event/4213/
END:VEVENT
END:VCALENDAR
