BEGIN:VCALENDAR
VERSION:2.0
PRODID:-//CERN//INDICO//EN
BEGIN:VEVENT
SUMMARY:Stephanie Lohrengel -- Reconstruction des propriétés électrique
 s du cerveau humain en imagerie par résonance magnétique (IRM)
DTSTART:20260507T090000Z
DTEND:20260507T110000Z
DTSTAMP:20260421T153000Z
UID:indico-event-16462@indico.math.cnrs.fr
DESCRIPTION:https://indico.math.cnrs.fr/event/16462/
URL:https://indico.math.cnrs.fr/event/16462/
END:VEVENT
END:VCALENDAR
