BEGIN:VCALENDAR
VERSION:2.0
PRODID:-//CERN//INDICO//EN
BEGIN:VEVENT
SUMMARY:TBA
DTSTART:20260521T120000Z
DTEND:20260521T130000Z
DTSTAMP:20260424T050800Z
UID:indico-event-16434@indico.math.cnrs.fr
DESCRIPTION:Speakers: Tamanna Jain (LPENS\, Paris)\n\nhttps://indico.math.
 cnrs.fr/event/16434/
LOCATION:Salle 1180\, bâtiment E2 (Salle des séminaires )
URL:https://indico.math.cnrs.fr/event/16434/
END:VEVENT
END:VCALENDAR
