BEGIN:VCALENDAR
VERSION:2.0
PRODID:-//CERN//INDICO//EN
BEGIN:VEVENT
SUMMARY:Shahnaz Shamim Shahul
DTSTART:20260526T091500Z
DTEND:20260526T101500Z
DTSTAMP:20260424T082800Z
UID:indico-event-16419@indico.math.cnrs.fr
DESCRIPTION:Speakers: Shahnaz Shamim Shahul\n\nhttps://indico.math.cnrs.fr
 /event/16419/
LOCATION:1R2-207
URL:https://indico.math.cnrs.fr/event/16419/
END:VEVENT
END:VCALENDAR
