BEGIN:VCALENDAR
VERSION:2.0
PRODID:-//CERN//INDICO//EN
BEGIN:VEVENT
SUMMARY:Stéphanie Salmon ---  Résolution numérique de modèles couplés
  avec les équations de la dynamique des fluides incompressibles
DTSTART:20260416T090000Z
DTEND:20260416T110000Z
DTSTAMP:20260421T153000Z
UID:indico-event-16409@indico.math.cnrs.fr
DESCRIPTION:https://indico.math.cnrs.fr/event/16409/
URL:https://indico.math.cnrs.fr/event/16409/
END:VEVENT
END:VCALENDAR
