BEGIN:VCALENDAR
VERSION:2.0
PRODID:-//CERN//INDICO//EN
BEGIN:VEVENT
SUMMARY:Stella Krell "Convergence des algorithmes de Schwarz avec des mét
 hodes Volume Fini"
DTSTART:20260409T090000Z
DTEND:20260409T100000Z
DTSTAMP:20260421T153000Z
UID:indico-event-16406@indico.math.cnrs.fr
DESCRIPTION:https://indico.math.cnrs.fr/event/16406/
URL:https://indico.math.cnrs.fr/event/16406/
END:VEVENT
END:VCALENDAR
