BEGIN:VCALENDAR
VERSION:2.0
PRODID:-//CERN//INDICO//EN
BEGIN:VEVENT
SUMMARY:COOKIE (COmputing & apprOximating KInetic Equations)
DTSTART:20260716T070000Z
DTEND:20260716T154500Z
DTSTAMP:20260424T050800Z
UID:indico-event-16399@indico.math.cnrs.fr
CONTACT:nicolas.crouseilles@inria.fr\;luis-miguel.rodrigues@univ-rennes.fr
DESCRIPTION:We are happy to organise the workshop Cookie.\nWe welcome all 
 participants to the workshop\, but registration is mandatory.\nLocation an
 d time\nThe workshop will take place July 16th in the Pétri-Turing room a
 t INRIA Rennes. \nList of Speakers\n\nMartin Campos Pinto\nRémi Carles\n
 Anaïs Crestetto\nErwan Faou\nHélène Hivert\nJulien Mathiaud\nMichel Meh
 renberger\n\n\nhttps://indico.math.cnrs.fr/event/16399/
LOCATION:Petri-Turing (INRIA)
URL:https://indico.math.cnrs.fr/event/16399/
END:VEVENT
END:VCALENDAR
