BEGIN:VCALENDAR
VERSION:2.0
PRODID:-//CERN//INDICO//EN
BEGIN:VEVENT
SUMMARY:Marie Doumic (INRIA Paris)
DTSTART:20260511T090000Z
DTEND:20260511T110000Z
DTSTAMP:20260424T103000Z
UID:indico-event-16079@indico.math.cnrs.fr
DESCRIPTION:The seminar will take place on Zoom at the following link: htt
 ps://univ-cotedazur.zoom.us/j/5698369814Short URLNone\n\nhttps://indico.ma
 th.cnrs.fr/event/16079/
URL:https://indico.math.cnrs.fr/event/16079/
END:VEVENT
END:VCALENDAR
