BEGIN:VCALENDAR
VERSION:2.0
PRODID:-//CERN//INDICO//EN
BEGIN:VEVENT
SUMMARY:Raluca Eftimie (Université de Franche-Comté)
DTSTART:20260504T090000Z
DTEND:20260504T110000Z
DTSTAMP:20260424T125300Z
UID:indico-event-16002@indico.math.cnrs.fr
DESCRIPTION:The seminar will take place on Zoom at the following link: htt
 ps://univ-cotedazur.zoom.us/j/5698369814Short URLNone\n\nhttps://indico.ma
 th.cnrs.fr/event/16002/
URL:https://indico.math.cnrs.fr/event/16002/
END:VEVENT
END:VCALENDAR
