BEGIN:VCALENDAR
VERSION:2.0
PRODID:-//CERN//INDICO//EN
BEGIN:VEVENT
SUMMARY:Segregated solutions of a degenerate cross-diffusion system with d
 rifts
DTSTART:20260107T093000Z
DTEND:20260107T110000Z
DTSTAMP:20260424T050800Z
UID:indico-event-15792@indico.math.cnrs.fr
DESCRIPTION:Speakers: Simon Schulz (Versailles)\n\nThe purpose of this tal
 k is to present some recent progress on the existence theory for a particu
 lar type of degenerate cross-diffusion system in one space dimension\, whi
 ch expands on the prior works of Meszaros-Parker and Elbar-Santambrogio. W
 e will discuss a special formulation of the problem which allows us to use
  monotonicity methods à la Minty-Browder. This is joint work with Filippo
  Santambrogio. \n\nhttps://indico.math.cnrs.fr/event/15792/
URL:https://indico.math.cnrs.fr/event/15792/
END:VEVENT
END:VCALENDAR
