BEGIN:VCALENDAR
VERSION:2.0
PRODID:-//CERN//INDICO//EN
BEGIN:VEVENT
SUMMARY:Numerical approximation of the eigenvalues of the curl operator
DTSTART:20251218T100000Z
DTEND:20251218T120000Z
DTSTAMP:20260425T152300Z
UID:indico-event-15785@indico.math.cnrs.fr
DESCRIPTION:Speakers: Ana Alonso Rodriguez\n\nhttps://indico.math.cnrs.fr/
 event/15785/
URL:https://indico.math.cnrs.fr/event/15785/
END:VEVENT
END:VCALENDAR
