BEGIN:VCALENDAR
VERSION:2.0
PRODID:-//CERN//INDICO//EN
BEGIN:VEVENT
SUMMARY:Propriétés fonctorielles des multiplicateurs de Fourier.
DTSTART:20251215T150000Z
DTEND:20251215T160000Z
DTSTAMP:20260424T220900Z
UID:indico-event-15762@indico.math.cnrs.fr
DESCRIPTION:Speakers: Patrick Poissel (LMB\, Besançon)\n\nÀ toute foncti
 on polynôme P sur l'espace R^d est naturellement associé un opérateur d
 ifférentiel P(D) : c'est l'opérateur qui est conjugué par la transforma
 tion de Fourier à l'opérateur de multiplication par P. La notion se gén
 éralise naturellement en remplaçant l'espace R^d par un groupe abélien 
 localement compact et le polynôme P par une distribution tempérée m\, a
 uquel cas l'opérateur m(D) s'appelle le multiplicateur de Fourier de symb
 ole m. Dans cet exposé\, nous présenterons quelques théorèmes d'image 
 directe ou réciproque par certain morphismes de groupes continus pour les
  symboles m tels que m(D) se prolonge en un opérateur continu de L^p dans
  lui-même.\n\nhttps://indico.math.cnrs.fr/event/15762/
LOCATION:318
URL:https://indico.math.cnrs.fr/event/15762/
END:VEVENT
END:VCALENDAR
