BEGIN:VCALENDAR
VERSION:2.0
PRODID:-//CERN//INDICO//EN
BEGIN:VEVENT
SUMMARY:Sensibilité par bloc des fonctions booléennes
DTSTART:20251218T093000Z
DTEND:20251218T103000Z
DTSTAMP:20260423T224000Z
UID:indico-event-15755@indico.math.cnrs.fr
DESCRIPTION:Speakers: Franck Barthe (Institut de Mathématiques de Toulous
 e)\n\nhttps://indico.math.cnrs.fr/event/15755/
LOCATION:1R1 106 (Huron) (IMT)
URL:https://indico.math.cnrs.fr/event/15755/
END:VEVENT
END:VCALENDAR
