BEGIN:VCALENDAR
VERSION:2.0
PRODID:-//CERN//INDICO//EN
BEGIN:VEVENT
SUMMARY:Matinée en l'occasion de la soutenance de Butian Zhang
DTSTART:20251219T080000Z
DTEND:20251219T110000Z
DTSTAMP:20260424T223500Z
UID:indico-event-15746@indico.math.cnrs.fr
DESCRIPTION:Speakers: Sophia Lambropoulou\, Vincent Florens\, Jean-Baptist
 e Meilhan\n\nhttps://indico.math.cnrs.fr/event/15746/
URL:https://indico.math.cnrs.fr/event/15746/
END:VEVENT
END:VCALENDAR
