BEGIN:VCALENDAR
VERSION:2.0
PRODID:-//CERN//INDICO//EN
BEGIN:VEVENT
SUMMARY:Large deviations for sums and random convex polygons
DTSTART:20251215T130000Z
DTEND:20251215T160000Z
DTSTAMP:20260426T000400Z
UID:indico-event-15743@indico.math.cnrs.fr
DESCRIPTION:Speakers: Fabien Brosset\n\nComposition du jury\nMme Nina GANT
 ERT\, Rapportrice\, Technical University of Munich\nM. Jean-Francois MARCK
 ERT\, Rapporteur\, Laboratoire Bordelais de Recherche en Informatique\nM. 
 Pierre CALKA\, Examinatrice\, Université de RouenM. MIchel LEDOUX\, Exam
 inateur\, Université de Toulouse\nM. Franck BARTHE\, Directeur de thèse
 \, Université de Toulouse\nM. Agnès LAGNOUX\, Co-directrice de thèse\,
  Université de Toulouse\n\nhttps://indico.math.cnrs.fr/event/15743/
LOCATION:Johnson (Institut de Mathématiques de Toulouse)
URL:https://indico.math.cnrs.fr/event/15743/
END:VEVENT
END:VCALENDAR
