BEGIN:VCALENDAR
VERSION:2.0
PRODID:-//CERN//INDICO//EN
BEGIN:VEVENT
SUMMARY:Rafistolage et principe local--global pour certaines espaces homog
 ènes projectifs sur Qp(t)
DTSTART:20251218T101500Z
DTEND:20251218T111500Z
DTSTAMP:20260424T220900Z
UID:indico-event-15709@indico.math.cnrs.fr
DESCRIPTION:Speakers: Manh Linh NGUYEN\n\nLe rafistolage (patching) est un
  outil dévéloppé par Harbater--Hartmann--Krashen pour étudier l'arithm
 étique des groupes algébriques linéaires sur les corps semiglobaux comm
 e les corps de fonctions de courbes sur un corps p-adique. On présente da
 ns cet exposé de nouveaux résultats sur la deuxième cohomologie galoisi
 enne non abélienne des groupes semi-simple simplement connexes sur tels c
 orps. On les applique à l'étude de l'existence des points rationnels sur
  les espaces homogènes projectifs. Il s'agit d'un travail commun avec Ram
 dorai Sujatha.\n\nhttps://indico.math.cnrs.fr/event/15709/
LOCATION:112 (Bâtiment Braconnier)
URL:https://indico.math.cnrs.fr/event/15709/
END:VEVENT
END:VCALENDAR
