BEGIN:VCALENDAR
VERSION:2.0
PRODID:-//CERN//INDICO//EN
BEGIN:VEVENT
SUMMARY:Holography and Large Spin Effective Field Theory  for Multi-partic
 le States
DTSTART:20251211T133000Z
DTEND:20251211T150000Z
DTSTAMP:20260426T020400Z
UID:indico-event-15708@indico.math.cnrs.fr
CONTACT:cecile@ihes.fr
DESCRIPTION:Speakers: Wei Li (Boston University)\n\nIn this talk\, I will 
 show how to construct a holographic effective theory for the leading-twist
  multi-particle operators for $O(2)$ CFT in $d=3$ and $d=4-\\epsilon$. For
  $d=4-\\epsilon$ Wilson-Fisher fixed point. We obtain the Hamiltonian of t
 he theory and show that it correctly reproduces all the dimensions at orde
 r ${\\mathcal O}(\\epsilon^2)$ of the leading twist operators for all valu
 es of the charge $Q$ and spin $J$. For $d=3$ strongly coupled $O(2)$ CFT\,
  we find excellent agreement with $Q=3\,4$ bootstrap data and inversion fo
 rmula.\n \nPour être informé des prochains séminaires vous pouvez vous
  abonner à la liste de diffusion en écrivant un mail à sympa@listes.mat
 h.cnrs.fr avec comme sujet: "subscribe seminaire_physique PRENOM NOM"(indi
 quez vos propres prénom et nom) et laissez le corps du message vide.\n \
 n\nhttps://indico.math.cnrs.fr/event/15708/
LOCATION:Amphithéâtre Léon Motchane (IHES)
URL:https://indico.math.cnrs.fr/event/15708/
END:VEVENT
END:VCALENDAR
