BEGIN:VCALENDAR
VERSION:2.0
PRODID:-//CERN//INDICO//EN
BEGIN:VEVENT
SUMMARY:Derived Seminar
DTSTART:20260123T124500Z
DTEND:20260123T163000Z
DTSTAMP:20260424T050700Z
UID:indico-event-15702@indico.math.cnrs.fr
DESCRIPTION:Speakers: Jean-Baptiste Teyssier (IMJ-PRG)\, Marco Robalo (Sor
 bonne University)\, Maria Yakerson (IMJ-PRG)\n\nhttps://indico.math.cnrs.f
 r/event/15702/
LOCATION:Salle Yvette Cauchois (IHP - Bâtiment Perrin)
URL:https://indico.math.cnrs.fr/event/15702/
END:VEVENT
END:VCALENDAR
