BEGIN:VCALENDAR
VERSION:2.0
PRODID:-//CERN//INDICO//EN
BEGIN:VEVENT
SUMMARY:Christmas seminar
DTSTART:20251217T130000Z
DTEND:20251217T150000Z
DTSTAMP:20260425T212700Z
UID:indico-event-15690@indico.math.cnrs.fr
DESCRIPTION:Speakers: Romain Saunier (IMT)\, Sofian Charaabi (IMT)\n\nRoma
 in Saunier : "We’re going to try to explain how Santa Claus can squeeze 
 down a chimney with a huge sack of toys — all thanks to symplectic topol
 ogy."\nSofian Charaabi : "Santa Claus drank a bit too much BEFORE deliveri
 ng the presents: will he succeed in completing his annual mission?" We wil
 l be looking at some properties of the random walk on the plane and then o
 n a snowflake."\n\nhttps://indico.math.cnrs.fr/event/15690/
LOCATION:Pellos (1R2)
URL:https://indico.math.cnrs.fr/event/15690/
END:VEVENT
END:VCALENDAR
