BEGIN:VCALENDAR
VERSION:2.0
PRODID:-//CERN//INDICO//EN
BEGIN:VEVENT
SUMMARY:TBA
DTSTART:20251205T091500Z
DTEND:20251205T100000Z
DTSTAMP:20260425T212700Z
UID:indico-event-15685@indico.math.cnrs.fr
CONTACT:kellendonk@math.univ-lyon1.fr\;athomas@math.univ-lyon1.fr
DESCRIPTION:Speakers: Vladimir Fock (Strasbourg)\n\nhttps://indico.math.cn
 rs.fr/event/15685/
LOCATION:Fokko du Cloux (Bat. Braconnier)
URL:https://indico.math.cnrs.fr/event/15685/
END:VEVENT
END:VCALENDAR
