BEGIN:VCALENDAR
VERSION:2.0
PRODID:-//CERN//INDICO//EN
BEGIN:VEVENT
SUMMARY:Actions of infinite-dimensional Lie algebras on symmetric function
 s
DTSTART:20260116T130000Z
DTEND:20260116T140000Z
DTSTAMP:20260425T184300Z
UID:indico-event-15643@indico.math.cnrs.fr
CONTACT:kellendonk@math.univ-lyon1.fr\;athomas@math.univ-lyon1.fr
DESCRIPTION:Speakers: Natasha Rozhkovskaya (Kansas State Univ)\n\nThere is
  a remarkable collection of   infinite-dimensional  Lie algebras (Viraso
 ro\, Heisenberg\, infinite-dimensional analogues of gl(N)\, W_(1+infinity)
 \, affine gl_(N))\, that are not only favorite subjects of representation 
 theory\,  but are closely connected to each other. In this  talk we will
  review these connections  using  the language  of formal distributions
  and  apply them to describe explicitly  actions of these of these algeb
 raic structures on the space of  on symmetric  functions.\n\nhttps://ind
 ico.math.cnrs.fr/event/15643/
LOCATION:Fokko du Cloux (Bat. Braconnier)
URL:https://indico.math.cnrs.fr/event/15643/
END:VEVENT
END:VCALENDAR
