BEGIN:VCALENDAR
VERSION:2.0
PRODID:-//CERN//INDICO//EN
BEGIN:VEVENT
SUMMARY:TBA
DTSTART:20251205T083000Z
DTEND:20251205T091500Z
DTSTAMP:20260424T170100Z
UID:indico-event-15641@indico.math.cnrs.fr
CONTACT:kellendonk@math.univ-lyon1.fr\;athomas@math.univ-lyon1.fr
DESCRIPTION:Speakers: Olga Kravchenko (Lyon)\n\nhttps://indico.math.cnrs.f
 r/event/15641/
LOCATION:Fokko du Cloux (Bat. Braconnier)
URL:https://indico.math.cnrs.fr/event/15641/
END:VEVENT
END:VCALENDAR
