BEGIN:VCALENDAR
VERSION:2.0
PRODID:-//CERN//INDICO//EN
BEGIN:VEVENT
SUMMARY:Helge Dietert "Nonlinearity stability of active suspension model"
DTSTART:20251204T100000Z
DTEND:20251204T110000Z
DTSTAMP:20260424T050800Z
UID:indico-event-15626@indico.math.cnrs.fr
DESCRIPTION:https://indico.math.cnrs.fr/event/15626/
URL:https://indico.math.cnrs.fr/event/15626/
END:VEVENT
END:VCALENDAR
