BEGIN:VCALENDAR
VERSION:2.0
PRODID:-//CERN//INDICO//EN
BEGIN:VEVENT
SUMMARY:Flots minimaux universels des groupes des homéomorphismes
DTSTART:20251201T130000Z
DTEND:20251201T150000Z
DTSTAMP:20260424T050700Z
UID:indico-event-15573@indico.math.cnrs.fr
DESCRIPTION:Speakers: Todor Tsankov (ICJ)\n\nUn système dynamique topolog
 ique (ou un flot) est donné par une actioncontinue d'un groupe topologiqu
 e G sur un espace compact X. Un flotest minimal s'il n'a pas de sous-flots
  propres\, ou\, de manièreéquivalente\, si toute orbite est dense. Pour 
 tout groupe G\, il existeun flot minimal universel M(G)\, unique à isomor
 phisme près\, tel quetout flot minimal de G est un facteur de M(G). C'est
  un objetcanonique associé au groupe qui reste\, en général\, assez mys
 térieux.Cependant pour certains gros groupes G\, une théorie a été dé
 veloppéequi permet parfois des calculs explicites. Je vais expliquer unep
 artie de cette théorie et en particulier comment elle s'appliqueaux group
 es des homéomorphismes des variétés et d'autres espacestopologiques.\n\
 nhttps://indico.math.cnrs.fr/event/15573/
LOCATION:L208 (Manufacture)
URL:https://indico.math.cnrs.fr/event/15573/
END:VEVENT
END:VCALENDAR
