BEGIN:VCALENDAR
VERSION:2.0
PRODID:-//CERN//INDICO//EN
BEGIN:VEVENT
SUMMARY:Axel Bacher : Chemins de Dyck progressifs et pressés
DTSTART:20251204T140000Z
DTEND:20251204T150000Z
DTSTAMP:20260425T184300Z
UID:indico-event-15546@indico.math.cnrs.fr
DESCRIPTION:Speakers: Axel Bacher (LIPN)\n\nLes chemins progressifs et pre
 ssés sont deux familles de chemins de Dyck introduits par Asinowski et Je
 línek\, qui ont montré qu'ils avaient la même énumération. Durhuus et
  Ünel ont montré une forme asymptotique pour le nombre de chemins press
 és (en fait une classe d'arbres équivalente) qui contient une exponentie
 lle étirée. Je montrerai une bijection qui montre l'égalité d'Asinowsk
 i et Jelínek\, puis je présenterai des résultats asymptotiques s'appuya
 nt sur ceux de Durhuus et Ünel. Je finirai par donner un algorithme de g
 énération aléatoire efficace pour ces familles de chemins.\n Lien arXi
 v\n\nhttps://indico.math.cnrs.fr/event/15546/
LOCATION:Salle Pierre Grisvard (IHP - Bâtiment Borel)
URL:https://indico.math.cnrs.fr/event/15546/
END:VEVENT
END:VCALENDAR
