BEGIN:VCALENDAR
VERSION:2.0
PRODID:-//CERN//INDICO//EN
BEGIN:VEVENT
SUMMARY:On the Lie algebra cohomology of de Rham complex of Drinfeld tower
DTSTART:20251120T101500Z
DTEND:20251120T111500Z
DTSTAMP:20260425T145900Z
UID:indico-event-15498@indico.math.cnrs.fr
DESCRIPTION:Speakers: Benchao Su\n\nThe de Rham complex of the Drinfeld to
 wer provides us some locally analytic representations which play a key rol
 e in the p-adic Langlands program. We will explain how to compute the Lie 
 algebra cohomology of these representations\, by further resolve the compl
 ex using differentials along the Lubin-Tate tower.\n\nhttps://indico.math.
 cnrs.fr/event/15498/
LOCATION:112 (Braconnier)
URL:https://indico.math.cnrs.fr/event/15498/
END:VEVENT
END:VCALENDAR
