BEGIN:VCALENDAR
VERSION:2.0
PRODID:-//CERN//INDICO//EN
BEGIN:VEVENT
SUMMARY:Limite semiclassique de l'équation de Schrodinger non-linéaire c
 ubique
DTSTART:20260129T130000Z
DTEND:20260129T140000Z
DTSTAMP:20260425T123000Z
UID:indico-event-15497@indico.math.cnrs.fr
DESCRIPTION:Speakers: Frédéric Rousset (Paris Saclay)\n\nOn va introduir
 e d'abord le problème  général et les diverses approches utilisées\, 
 on présentera ensuite un résultat récent qui justifie la limite pour de
 s états mixtes\, l'équation limite est alors  une équation cinétique
   singulière.\n\nhttps://indico.math.cnrs.fr/event/15497/
LOCATION:Salle de Séminaires (Orléans)
URL:https://indico.math.cnrs.fr/event/15497/
END:VEVENT
END:VCALENDAR
