BEGIN:VCALENDAR
VERSION:2.0
PRODID:-//CERN//INDICO//EN
BEGIN:VEVENT
SUMMARY:Density of the Hodge locus of variations of Hodge structures\, and
  applications
DTSTART:20251114T140000Z
DTEND:20251114T153000Z
DTSTAMP:20260424T170100Z
UID:indico-event-15488@indico.math.cnrs.fr
CONTACT:gaiur@ihes.fr\;+33758543130
DESCRIPTION:Speakers: Nazim Khelifa (IHES)\n\nI will present a general met
 hod to prove existence and density for the metric topology of points\, in 
 the base of a (pure or mixed) variation of Hodge structures\, at which the
  corresponding fiber carries non-generic Hodge tensors\, using tools from 
 functional transcendence and o-minimal geometry. I will then present some 
 consequences on bounds on the dimension of images of period maps associate
 d to pure variations of Hodge structures. This is partly joint work with D
 . Urbanik.\n\nhttps://indico.math.cnrs.fr/event/15488/
LOCATION:Salle Olga Ladyjenskaïa (IHP - Bâtiment Borel)
URL:https://indico.math.cnrs.fr/event/15488/
END:VEVENT
END:VCALENDAR
