BEGIN:VCALENDAR
VERSION:2.0
PRODID:-//CERN//INDICO//EN
BEGIN:VEVENT
SUMMARY:Séminaire Bachelier
DTSTART:20260109T101500Z
DTEND:20260109T111500Z
DTSTAMP:20260424T050700Z
UID:indico-event-15443@indico.math.cnrs.fr
DESCRIPTION:https://indico.math.cnrs.fr/event/15443/
LOCATION:Amphithéâtre Yvonne Choquet-Bruhat (IHP - Bâtiment Perrin)
URL:https://indico.math.cnrs.fr/event/15443/
END:VEVENT
END:VCALENDAR
