BEGIN:VCALENDAR
VERSION:2.0
PRODID:-//CERN//INDICO//EN
BEGIN:VEVENT
SUMMARY:An introduction to algebraic operads
DTSTART:20251113T130000Z
DTEND:20251113T140000Z
DTSTAMP:20260422T230800Z
UID:indico-event-15415@indico.math.cnrs.fr
DESCRIPTION:Speakers: Silvère Nedelec (IDP Orléans)\n\nIn algebraic topo
 logy\, we use several types of structures in order to study geometric obje
 cts. These structures themselves can have some nice property that makes th
 e study of these objects easier. But in order to talk about properties of 
 structures\, the best thing would be to have a type of objects that encode
  structures ! That is when operads arrive\, these are objects that encode 
 algebraic structures : for example there is an operad A that encodes the s
 tructure of associative algebras. Moreover\, the "nice property" of the st
 ructure will translate into a precise property of the operad.\n\nhttps://i
 ndico.math.cnrs.fr/event/15415/
LOCATION:Salle de Séminaires (Orléans)
URL:https://indico.math.cnrs.fr/event/15415/
END:VEVENT
END:VCALENDAR
