BEGIN:VCALENDAR
VERSION:2.0
PRODID:-//CERN//INDICO//EN
BEGIN:VEVENT
SUMMARY:The holonomy of principal orbibundle connections
DTSTART:20251121T130000Z
DTEND:20251121T140000Z
DTSTAMP:20260425T210300Z
UID:indico-event-15399@indico.math.cnrs.fr
CONTACT:kellendonk@math.univ-lyon1.fr\;athomas@math.univ-lyon1.fr
DESCRIPTION:Speakers: Sebastian Daza (Coimbra)\n\nIn this talk I will show
  how to extend the notion of holonomy of principal bundle connections to o
 rbifolds. To do that\, first we will talk about principal orbibundles and 
 give a characterization of them in terms of group actions. After that\, we
  will talk about connections\, horizontal lifts and their relation with th
 e orbifold singularities. To conclude this talk\, we will talk about the h
 olonomy group. I will show some ideas of how to proof that it is a Lie gro
 up\, the reduction theorem and the Ambrose-Singer theorem.\n\nhttps://indi
 co.math.cnrs.fr/event/15399/
LOCATION:Fokko du Cloux (Bat. Braconnier)
URL:https://indico.math.cnrs.fr/event/15399/
END:VEVENT
END:VCALENDAR
