BEGIN:VCALENDAR
VERSION:2.0
PRODID:-//CERN//INDICO//EN
BEGIN:VEVENT
SUMMARY:Groupe de travail déplacé au vendredi 21 "Optimalité de la cond
 ition de Bruno 2"
DTSTART:20251114T130000Z
DTEND:20251114T150000Z
DTSTAMP:20260422T102900Z
UID:indico-event-15331@indico.math.cnrs.fr
DESCRIPTION:Speakers: Arnaud Chéritat (IMT Toulouse)\n\nhttps://indico.ma
 th.cnrs.fr/event/15331/
LOCATION:Cavaillès (1R2 IMT Toulouse)
URL:https://indico.math.cnrs.fr/event/15331/
END:VEVENT
END:VCALENDAR
