BEGIN:VCALENDAR
VERSION:2.0
PRODID:-//CERN//INDICO//EN
BEGIN:VEVENT
SUMMARY:Dynamique en temps réel d'un champ de vecteurs homogène dans le 
 plan complexe.
DTSTART:20251205T093000Z
DTEND:20251205T113000Z
DTSTAMP:20260424T050700Z
UID:indico-event-15233@indico.math.cnrs.fr
DESCRIPTION:Speakers: Adrien Kachkachi\n\n Dans cet exposé\, nous introd
 uirons brièvement le lien entre les champs de vecteurs homogènes dans le
  plan complexe et les structures affines sur la sphère de Riemann moins u
 n nombre fini de points. En particulier\, cette correspondance permet de d
 écrire\, du moins théoriquement et sous certaines conditions\, la dynami
 que en temps réel d'un champ de vecteurs homogène à partir du flot géo
 désique sur la surface affine correspondante. Nous fixerons un champ de v
 ecteurs bien précis menant à une structure affine particulièrement simp
 le\, sur laquelle le flot géodésique induit une famille d'échanges d'in
 tervalles. Cette réduction à une dynamique discrète sur le cercle perme
 t\, in fine\, de comprendre la dynamique du champ de vecteurs initial.  E
 nfin\, si le temps le permet\, nous aborderons les nombreuses questions qu
 i restent à ce jour ouvertes et les pistes envisagées pour y répondre.\
 n\nhttps://indico.math.cnrs.fr/event/15233/
LOCATION:Bat 1R2 (Salle 207)
URL:https://indico.math.cnrs.fr/event/15233/
END:VEVENT
END:VCALENDAR
