BEGIN:VCALENDAR
VERSION:2.0
PRODID:-//CERN//INDICO//EN
BEGIN:VEVENT
SUMMARY:Une conjecture de normalité en base rationnelle
DTSTART:20251128T093000Z
DTEND:20251128T113000Z
DTSTAMP:20260424T050800Z
UID:indico-event-15232@indico.math.cnrs.fr
DESCRIPTION:Speakers: Léo Vivion (Liège)\n\n Le système de numération
  en base rationnelle p/q a été introduit en 2008 par Akiyama\, Frougny e
 t Sakarovitch. Pour deux entiers p>q copremiers\, tout entier n possède u
 ne unique expansion en base p/q\, sous la forme d'un mot fini sur l'alphab
 et {0\,1\,...\,p−1}. Le langage de ces expansions présente une structur
 e d'arbre\, qui conduit naturellement à la définition de deux familles d
 e mots infinis : les mots minimaux et les mots maximaux. Nous conjecturons
  que tous ces mots sont normaux.\n\nhttps://indico.math.cnrs.fr/event/1523
 2/
LOCATION:Bat 1R2 (Salle 207)
URL:https://indico.math.cnrs.fr/event/15232/
END:VEVENT
END:VCALENDAR
