BEGIN:VCALENDAR
VERSION:2.0
PRODID:-//CERN//INDICO//EN
BEGIN:VEVENT
SUMMARY:GT Algèbres de Hopf
DTSTART:20251231T091500Z
DTEND:20251231T104500Z
DTSTAMP:20260424T063800Z
UID:indico-event-15195@indico.math.cnrs.fr
DESCRIPTION:https://indico.math.cnrs.fr/event/15195/
LOCATION:salle M 001 (Saint-Etienne)
URL:https://indico.math.cnrs.fr/event/15195/
END:VEVENT
END:VCALENDAR
