BEGIN:VCALENDAR
VERSION:2.0
PRODID:-//CERN//INDICO//EN
BEGIN:VEVENT
SUMMARY:Igor Haladjian\, "J-groupes et entrelacs de Seifert"
DTSTART:20251218T093000Z
DTEND:20251218T113000Z
DTSTAMP:20260425T114900Z
UID:indico-event-15152@indico.math.cnrs.fr
DESCRIPTION:Achar et Aubert ont introduit en 2008 les J-groupes\, une fami
 lle de groupes généralisant les groupes de réflexions complexes de rang
  deux. Durant ma thèse j'ai étudié en détail la combinatoire de cette 
 famille\, et plus particulièrement des J-groupes de réflexions\, une sou
 s-famille de J-groupes. En particulier\, j'ai montré que les J-groupes de
  réflexions sont intimement liés aux entrelacs de Seifert. Après avoir 
 expliqué en quoi les J-groupes de réflexions peuvent être vus comme une
  généralisation combinatoire à la Coxeter des groupes de réflexions co
 mplexes de rang deux\, je parlerai de leurs groupes de tresses et de leur 
 lien avec les entrelacs de Seifert. Si le temps le permet\, j'aborderai la
  question des structures de Garside associées à ces groupes..\n\nhttps:/
 /indico.math.cnrs.fr/event/15152/
URL:https://indico.math.cnrs.fr/event/15152/
END:VEVENT
END:VCALENDAR
