BEGIN:VCALENDAR
VERSION:2.0
PRODID:-//CERN//INDICO//EN
BEGIN:VEVENT
SUMMARY:TBA
DTSTART:20251126T093000Z
DTEND:20251126T103000Z
DTSTAMP:20260422T234000Z
UID:indico-event-15148@indico.math.cnrs.fr
CONTACT:cecile@ihes.fr
DESCRIPTION:Speakers: Giuseppe Scola (SISSA\, Trieste)\n\nAbstract:\n \n\
 nhttps://indico.math.cnrs.fr/event/15148/
LOCATION:Amphithéâtre Léon Motchane (IHES)
URL:https://indico.math.cnrs.fr/event/15148/
END:VEVENT
END:VCALENDAR
