BEGIN:VCALENDAR
VERSION:2.0
PRODID:-//CERN//INDICO//EN
BEGIN:VEVENT
SUMMARY:Some formal gluing diagrams for continuous K-theory
DTSTART:20251113T130000Z
DTEND:20251113T150000Z
DTSTAMP:20260424T103000Z
UID:indico-event-15065@indico.math.cnrs.fr
DESCRIPTION:Speakers: Hyungseop Kim\n\nThe study of descent properties of 
 K-theory plays an important role in understanding its values and behaviour
  in many geometric contexts. In this talk\, I will explain a construction 
 of certain diagrams arising from formal gluing situations for which contin
 uous K-theory\, and more generally all localising invariants\, satisfy des
 cent\, from the perspective of dualisable categories. I will also discuss 
 how this encompasses both Clausen–Scholze’s gluing result for analytic
  adic spaces and a continuous adelic descent for K-theory.\n\nhttps://indi
 co.math.cnrs.fr/event/15065/
LOCATION:M7-411
URL:https://indico.math.cnrs.fr/event/15065/
END:VEVENT
END:VCALENDAR
