BEGIN:VCALENDAR
VERSION:2.0
PRODID:-//CERN//INDICO//EN
BEGIN:VEVENT
SUMMARY:Séminaire Parisien de Statistique
DTSTART:20260112T130000Z
DTEND:20260112T160000Z
DTSTAMP:20260425T184300Z
UID:indico-event-15043@indico.math.cnrs.fr
DESCRIPTION:https://indico.math.cnrs.fr/event/15043/
LOCATION:Amphithéâtre Yvonne Choquet-Bruhat (IHP - Bâtiment Perrin)
URL:https://indico.math.cnrs.fr/event/15043/
END:VEVENT
END:VCALENDAR
