BEGIN:VCALENDAR
VERSION:2.0
PRODID:-//CERN//INDICO//EN
BEGIN:VEVENT
SUMMARY:Sur la topologie des plongement équivariants des tores réels
DTSTART:20251118T101500Z
DTEND:20251118T111500Z
DTSTAMP:20260425T184300Z
UID:indico-event-14927@indico.math.cnrs.fr
DESCRIPTION:Speakers: Jules Chenal\n\nUn tore algébrique réel est un gro
 upe affine T dont le complexifié est une puissance du groupe multiplicati
 f complexe. Le groupe multiplicatif réel et le groupe des rotations plana
 ires en sont les deux seuls exemples de dimension 1. Lorsque T est lui-mê
 me une puissance du groupe multiplicatif réel on dit qu'il est déployé.
  Un plongement équivariant de T est alors défini comme la donnée d'une 
 variété réelle X normale munie d'une action de T possédant une orbite 
 libre ouverte dense. Lorsque T est déployé\, la topologie de ses plongem
 ents équivariants est bien comprise depuis au moins une décennie. Dans c
 et exposé je présenterai une manière topologique de représenter les pl
 ongements de tores déployés et comment se ramener à ces cas plus classi
 ques pour comprendre les plongements équivariants des tores généraux. (
 Cet exposé est basé sur des travaux communs avec Matilde Manzaroli) \n\
 nhttps://indico.math.cnrs.fr/event/14927/
LOCATION:CAVAILLES
URL:https://indico.math.cnrs.fr/event/14927/
END:VEVENT
END:VCALENDAR
