BEGIN:VCALENDAR
VERSION:2.0
PRODID:-//CERN//INDICO//EN
BEGIN:VEVENT
SUMMARY:Soutenance HDR - Valère BITSEKI PENDA
DTSTART:20251126T130000Z
DTEND:20251126T150000Z
DTSTAMP:20260425T104100Z
UID:indico-event-14902@indico.math.cnrs.fr
DESCRIPTION:https://indico.math.cnrs.fr/event/14902/
URL:https://indico.math.cnrs.fr/event/14902/
END:VEVENT
END:VCALENDAR
