BEGIN:VCALENDAR
VERSION:2.0
PRODID:-//CERN//INDICO//EN
BEGIN:VEVENT
SUMMARY:Séminaire Imaging in Paris
DTSTART:20251202T130000Z
DTEND:20251202T150000Z
DTSTAMP:20260424T165900Z
UID:indico-event-14839@indico.math.cnrs.fr
DESCRIPTION:https://indico.math.cnrs.fr/event/14839/
LOCATION:Salle Yvette Cauchois (IHP - Bâtiment Perrin)
URL:https://indico.math.cnrs.fr/event/14839/
END:VEVENT
END:VCALENDAR
