BEGIN:VCALENDAR
VERSION:2.0
PRODID:-//CERN//INDICO//EN
BEGIN:VEVENT
SUMMARY:GLOBAL CATEGORICAL SYMMETRIES 2026
DTSTART:20260615T073000Z
DTEND:20260703T160000Z
DTSTAMP:20260422T230800Z
UID:indico-event-14721@indico.math.cnrs.fr
CONTACT:GCS2026@ihp.fr
DESCRIPTION:Thematic 3-weeks programme at the Institut Henri Poincaré\, 
 Paris\, June 15th to July 3rd\, 2026.\nBeware: It was reported to us that 
 scammers are sending to participants fraudulent e-mails about accomodation
 /fees. Please be particularly cautious about e-mails not coming from the o
 rganisers nor from an @ihp.fr address. \nAbstract\nSome of the most profo
 und open problems about the physics of quantum fields – especially at st
 rong coupling\, beyond the reach of conventional techniques – are newly 
 accessible thanks to recent developments in topological quantum field theo
 ry (TQFT). This insight comes with a dramatic evolution of the notion of s
 ymmetries in QFT: symmetries can be characterized via topological defects 
 of various codimensions whose multidimensional fusion generalizes wildly t
 he notion of groups to what are called categorical symmetries. This IHP pr
 ogram is the fourth in a series of meetings hosted at various institutes w
 orldwide devoted to the exploration of these aspects of symmetries\, the 
 resulting mathematical structures and their physical implications\, in the
  context of the Simons Collaboration on Global Categorical Symmetries. Wor
 ld-class experts in the subject will gather at IHP in an interactive setti
 ng alternating lectures and seminars aiming at nourishing collaborations a
 nd stimulate further this rapidly evolving field.\nDuring the first week o
 f this program we invite PhD students and postdocs to the fourth GCS summe
 r school. Support is available for those who apply. During the second week
  of this program we will host the conference Symmetries 2026\, an interna
 tional gathering of experts where the most recent developments about this 
 topic will be presented. The third week of this program is a smaller works
 hop\, where groups of researchers are welcome to network and develop new p
 rojects and ideas. More information will appear on this webpage closer to 
 the event.\n \nThe program unfolds over three weeks: a school\, a confere
 nce\, and finally a workshop.\nJune 15-19: GCS26 School\nIHP\, Amphithéâ
 tre Hermite\, Borel Building\nLecturers\nAgnès Beaudry (Colorado U Boulde
 r)\nFederico Bonetti (Murcia U)\nNat Tantivasadakarn (YITP\, Stony Brook U
 )\nTomer Schlank (Chicago U)\nYifan Wang (NYU)\nJune 22-26: Symmetries26 C
 onference \nIHP\, Amphithéâtre Hermite\, Borel building\nSpeakers includ
 e\nAndrea Antinucci (Oxford U)\nLea Bottini (IHES)\nAdrien Brochier (Paris
  Cité)\nDamien Calaque (U de Montpellier)\nChristian Copetti (Oxford U)\n
 Arun Debray (Kentucky U)\nThibault Decoppet (Harvard U)\nLukasz Fidkowski 
 (Seattle U)\nJonathan Heckman (UPenn)\nWenjie Ji (PI)\nAnton Kapustin (Cal
 tech)\nCameron Krulewski (DAL)\nEnoch Leung (LMU)\nJohn McGreevy (UCSD)\nL
 ukas Müller (PI)\nNivedita (Oxford U)\nSalvatore Pace (MIT - IAS)\nJulio 
 Parra-Martinez (IHES)\nBrandon Rayhoun (IAS)\nDavid Reutter (Hamburg U)\nS
 akura Schafer-Nameki (Oxford U)\nPelle Steffens (TUM)\nXiao-Gang Wen (MIT)
 \nCarolyn Zhang (Harvard U)\nYunqin Zheng (KIST-UCIS)\nChenchang Zhu (Göt
 tingen U)\nJune 29-July 3: GCS26 workshop \nIHP\, Amphithéâtre Darboux\,
  Borel building\n \nRegistration is free but mandatory.Deadline for askin
 g financial support: February 15th\, 2026.  Financial support is limited 
 and will be notified by March 15th\, 2026. Places are limited.\n \nOrgan
 ising committee:\n\nIbrahima Bah (John Hopkins University)\nMichele Del Zo
 tto (Uppsala University) \nTheo Johnson Freyd (Dalhousie University & Per
 imeter Institute) \nRuben Minasian (CEA Saclay)\nClaudia Scheimbauer (TU 
 Munich)\n\n \nScientific committee:\n\nThomas Dumitrescu (University of C
 alifornia Los Angeles)\nDan Freed (University of Texas)\nConstantin Telema
 n (University of California Berkley)\n\n \nFundings: \n\n\n\n\n\n\n\n \
 n \n\n\n\nThe program receives also support from:\n\nSimons Collaboration
  on Global Categorical Symmetries\n\nhttps://indico.math.cnrs.fr/event/147
 21/
IMAGE;VALUE=URI:https://indico.math.cnrs.fr/event/14721/logo-2348625771.pn
 g
LOCATION:Institut Henri Poincaré
URL:https://indico.math.cnrs.fr/event/14721/
END:VEVENT
END:VCALENDAR
