BEGIN:VCALENDAR
VERSION:2.0
PRODID:-//CERN//INDICO//EN
BEGIN:VEVENT
SUMMARY:Géométrie et Graphes aléatoires
DTSTART:20251008T120000Z
DTEND:20251008T160000Z
DTSTAMP:20260424T050800Z
UID:indico-event-14706@indico.math.cnrs.fr
DESCRIPTION:\n \n\nhttps://indico.math.cnrs.fr/event/14706/
LOCATION:Amphithéâtre Gaston Darboux (IHP - Bâtiment Borel)
URL:https://indico.math.cnrs.fr/event/14706/
END:VEVENT
END:VCALENDAR
